BEGIN:VCALENDAR
VERSION:2.0
PRODID:spatie/icalendar-generator
DESCRIPTION:Veranstaltungen von UHC Olten Falcons
X-WR-CALDESC:Veranstaltungen von UHC Olten Falcons
REFRESH-INTERVAL;VALUE=DURATION:PT1440M
X-PUBLISHED-TTL:PT1440M
BEGIN:VTIMEZONE
TZID:Etc/GMT+0
BEGIN:STANDARD
DTSTART:20240101T180000Z
TZOFFSETFROM:+0000
TZOFFSETTO:+0000
END:STANDARD
END:VTIMEZONE
BEGIN:VTIMEZONE
TZID:UTC
BEGIN:STANDARD
DTSTART:20250728T124022Z
TZOFFSETFROM:+0000
TZOFFSETTO:+0000
END:STANDARD
END:VTIMEZONE
BEGIN:VEVENT
UID:126-12
DTSTAMP:20260424T124022Z
SUMMARY:Lenk Trainingsweekend 2024
LOCATION:
ORGANIZER;CN=admin:MAILTO:info@oltenfalcons.ch
DTSTART;TZID=Etc/GMT+0:20240927T180000
DTEND;TZID=Etc/GMT+0:20240929T140000
X-ALT-DESC;FMTTYPE=TEXT/HTML:
CATEGORIES:Event
URL;VALUE=URI:https://www.oltenfalcons.ch/mc-events/lenk-trainingsweekend-2
 024/?mc_id=126
END:VEVENT
END:VCALENDAR