BEGIN:VCALENDAR
VERSION:2.0
PRODID:spatie/icalendar-generator
DESCRIPTION:Veranstaltungen von UHC Olten Falcons
X-WR-CALDESC:Veranstaltungen von UHC Olten Falcons
REFRESH-INTERVAL;VALUE=DURATION:PT1440M
X-PUBLISHED-TTL:PT1440M
BEGIN:VTIMEZONE
TZID:Etc/GMT+0
BEGIN:STANDARD
DTSTART:20240607T201500Z
TZOFFSETFROM:+0000
TZOFFSETTO:+0000
END:STANDARD
END:VTIMEZONE
BEGIN:VTIMEZONE
TZID:UTC
BEGIN:STANDARD
DTSTART:20250728T044138Z
TZOFFSETFROM:+0000
TZOFFSETTO:+0000
END:STANDARD
END:VTIMEZONE
BEGIN:VEVENT
UID:169-19
DTSTAMP:20260424T044138Z
SUMMARY:Training Dienstag 2025
LOCATION:Turnhalle Frohheim 1
ORGANIZER;CN=admin:MAILTO:info@oltenfalcons.ch
RRULE:FREQ=WEEKLY;UNTIL=20250405T000000Z
DTSTART;TZID=Etc/GMT+0:20250304T201500
DTEND;TZID=Etc/GMT+0:20250304T214500
X-ALT-DESC;FMTTYPE=TEXT/HTML:
CATEGORIES:Training
URL;VALUE=URI:https://www.oltenfalcons.ch/mc-events/training-dienstag-2025-
 2/?mc_id=169
END:VEVENT
END:VCALENDAR