BEGIN:VCALENDAR
VERSION:2.0
PRODID:spatie/icalendar-generator
DESCRIPTION:Veranstaltungen von UHC Olten Falcons
X-WR-CALDESC:Veranstaltungen von UHC Olten Falcons
REFRESH-INTERVAL;VALUE=DURATION:PT1440M
X-PUBLISHED-TTL:PT1440M
BEGIN:VTIMEZONE
TZID:Etc/GMT+0
BEGIN:STANDARD
DTSTART:20240430T160000Z
TZOFFSETFROM:+0000
TZOFFSETTO:+0000
END:STANDARD
END:VTIMEZONE
BEGIN:VTIMEZONE
TZID:UTC
BEGIN:STANDARD
DTSTART:20250728T065112Z
TZOFFSETFROM:+0000
TZOFFSETTO:+0000
END:STANDARD
END:VTIMEZONE
BEGIN:VEVENT
UID:162-18
DTSTAMP:20260424T065112Z
SUMMARY:Training Samstag 2025
LOCATION:Turnhalle Frohheim 1
ORGANIZER;CN=admin:MAILTO:info@oltenfalcons.ch
RRULE:FREQ=WEEKLY;UNTIL=20250131T000000Z
DTSTART;TZID=Etc/GMT+0:20250125T160000
DTEND;TZID=Etc/GMT+0:20250125T173000
X-ALT-DESC;FMTTYPE=TEXT/HTML:
CATEGORIES:Event
URL;VALUE=URI:https://www.oltenfalcons.ch/mc-events/training-samstag-2025/?
 mc_id=162
END:VEVENT
END:VCALENDAR