BEGIN:VCALENDAR
VERSION:2.0
PRODID:spatie/icalendar-generator
DESCRIPTION:Veranstaltungen von UHC Olten Falcons
X-WR-CALDESC:Veranstaltungen von UHC Olten Falcons
REFRESH-INTERVAL;VALUE=DURATION:PT1440M
X-PUBLISHED-TTL:PT1440M
BEGIN:VTIMEZONE
TZID:Etc/GMT+0
BEGIN:STANDARD
DTSTART:20250311T133000Z
TZOFFSETFROM:+0000
TZOFFSETTO:+0000
END:STANDARD
END:VTIMEZONE
BEGIN:VTIMEZONE
TZID:UTC
BEGIN:STANDARD
DTSTART:20250727T155854Z
TZOFFSETFROM:+0000
TZOFFSETTO:+0000
END:STANDARD
END:VTIMEZONE
BEGIN:VEVENT
UID:143-16
DTSTAMP:20260423T155854Z
SUMMARY:Falcons Cup 2025
LOCATION:
ORGANIZER;CN=admin:MAILTO:info@oltenfalcons.ch
DTSTART;TZID=Etc/GMT+0:20251206T133000
DTEND;TZID=Etc/GMT+0:20251206T173000
X-ALT-DESC;FMTTYPE=TEXT/HTML:
CATEGORIES:Event
URL;VALUE=URI:https://www.oltenfalcons.ch/mc-events/falcons-cup-2025/?mc_id
 =143
END:VEVENT
END:VCALENDAR