BEGIN:VCALENDAR
VERSION:2.0
PRODID:spatie/icalendar-generator
DESCRIPTION:Veranstaltungen von UHC Olten Falcons
X-WR-CALDESC:Veranstaltungen von UHC Olten Falcons
REFRESH-INTERVAL;VALUE=DURATION:PT1440M
X-PUBLISHED-TTL:PT1440M
BEGIN:VTIMEZONE
TZID:Etc/GMT+0
BEGIN:STANDARD
DTSTART:20231114T160000Z
TZOFFSETFROM:+0000
TZOFFSETTO:+0000
END:STANDARD
END:VTIMEZONE
BEGIN:VTIMEZONE
TZID:UTC
BEGIN:STANDARD
DTSTART:20250728T124522Z
TZOFFSETFROM:+0000
TZOFFSETTO:+0000
END:STANDARD
END:VTIMEZONE
BEGIN:VEVENT
UID:106-11
DTSTAMP:20260424T124522Z
SUMMARY:Training Samstag 2024
LOCATION:
ORGANIZER;CN=admin:MAILTO:info@oltenfalcons.ch
RRULE:FREQ=WEEKLY;UNTIL=20241215T000000Z
DTSTART;TZID=Etc/GMT+0:20240810T160000
DTEND;TZID=Etc/GMT+0:20240810T173000
X-ALT-DESC;FMTTYPE=TEXT/HTML:
CATEGORIES:Training
URL;VALUE=URI:https://www.oltenfalcons.ch/mc-events/training-samstag-2024/?
 mc_id=106
END:VEVENT
END:VCALENDAR